BEGIN:VCALENDAR
VERSION:2.0
PRODID:spatie/icalendar-generator
DESCRIPTION:Events from Gobierno del Estado de Quintana Roo
X-WR-CALDESC:Events from Gobierno del Estado de Quintana Roo
REFRESH-INTERVAL;VALUE=DURATION:PT1440M
X-PUBLISHED-TTL:PT1440M
BEGIN:VTIMEZONE
TZID:America/Cancun
BEGIN:STANDARD
DTSTART:20250731T000000Z
TZOFFSETFROM:-0500
TZOFFSETTO:-0500
END:STANDARD
END:VTIMEZONE
BEGIN:VTIMEZONE
TZID:UTC
BEGIN:STANDARD
DTSTART:20250728T161504Z
TZOFFSETFROM:+0000
TZOFFSETTO:+0000
END:STANDARD
END:VTIMEZONE
BEGIN:VEVENT
UID:107-58
DTSTAMP:20260424T161504Z
SUMMARY:PERIODO DE APERTURA Y CIERRE DE VENTANILLA - GANADERÍA
LOCATION:
ORGANIZER;CN=Arith Alejandra Abreu:MAILTO:dovediary1520@gmail.com
DTSTART;TZID=America/Cancun;VALUE=DATE:20260427
DTEND;TZID=America/Cancun;VALUE=DATE:20260501
X-ALT-DESC;FMTTYPE=TEXT/HTML:CONVOCATORIA: C04 - Apoyos otorgados en especi
 e a organizaciones apícolas
CATEGORIES:VENTANILLA
URL;VALUE=URI:https://sedarpe.qroo.gob.mx/mc-events/periodo-de-apertura-y-c
 ierre-de-ventanilla-ganaderia-6/
METHOD:PUBLISH
END:VEVENT
END:VCALENDAR